BEGIN:VCALENDAR
VERSION:2.0
PRODID:-//Soul Dancing - ECPv5.1.4//NONSGML v1.0//EN
CALSCALE:GREGORIAN
METHOD:PUBLISH
X-WR-CALNAME:Soul Dancing
X-ORIGINAL-URL:https://souldancing.co.za
X-WR-CALDESC:Events for Soul Dancing
BEGIN:VTIMEZONE
TZID:Europe/Helsinki
BEGIN:DAYLIGHT
TZOFFSETFROM:+0200
TZOFFSETTO:+0300
TZNAME:EEST
DTSTART:20260329T010000
END:DAYLIGHT
BEGIN:STANDARD
TZOFFSETFROM:+0300
TZOFFSETTO:+0200
TZNAME:EET
DTSTART:20261025T010000
END:STANDARD
END:VTIMEZONE
BEGIN:VEVENT
DTSTART;TZID=Europe/Helsinki:20261015T180000
DTEND;TZID=Europe/Helsinki:20261015T223000
DTSTAMP:20260425T174651
CREATED:20190919T091409Z
LAST-MODIFIED:20260320T182425Z
UID:8837-1792087200-1792103400@souldancing.co.za
SUMMARY:Greatness within – within Great Pain
DESCRIPTION:[vc_row row_content_width=”grid” css=”.vc_custom_1571997794235{padding-top: 118px !important;padding-bottom: 140px !important;}”][vc_column width=”2/3″][vc_empty_space height=”50px”][vc_column_text]The third session works with two core emotions\, pain and lightness. \n  \nPAIN being at the core of us ‘being-humans’ because in truth\, pain is part and parcel of the human experience and it takes bigness to recognise that we all\, each and every single one of us\, go through pain & we will never be able to escape from it even if we learned to mask\, pretend or numb it throughout our lives. This is a pivotal session in the Soul Dancing series. In this session\, participants are assisted to open up\, feel and embrace their pain. Most importantly\, participants are encouraged to move & dance whilst experiencing the pain as frequently people tend to become immobile/stuck when in pain. \n  \nOnce all the available pain is acknowledged & expressed\, participants together move into the LIGHTNESS section wherein they realise that on the other side of the valley of pain is a towering mountain of one’s own greatness and with it a beautiful lightness of spirit. This section releases a shared stream of playfulness\, fun and laughter similar to that of children. \n  \nThis session can aptly be captured in Khalil Gibran’s words\, “Your joy is your sorrow unmasked.” \n  \n[/vc_column_text][/vc_column][vc_column width=”1/3″][vc_empty_space height=”65px”]\n\n\n\n\n\n\n\n\n\n\n\n\n	\n\n\n\n	\n\n\n\n	\n\n\n\n	\n	 \n\n\n\n	MESSAGE US\n	 \n\n[/vc_column][/vc_row] \n  \n\n    Contact Us\n	\n
URL:https://souldancing.co.za/event/greatness-within-within-great-pain/
LOCATION:The Centre of Light\, 109 Scorpion Trail\, Kyalami\, Johannesburg\, Gauteng\, South Africa
CATEGORIES:Workshop 2019
ATTACH;FMTTYPE=image/jpeg:https://souldancing.co.za/wp-content/uploads/2019/09/soul-dancing-workshop-greateness-within-within-great-pain.jpg
END:VEVENT
END:VCALENDAR