BEGIN:VCALENDAR
VERSION:2.0
PRODID:-//Soul Dancing - ECPv5.1.4//NONSGML v1.0//EN
CALSCALE:GREGORIAN
METHOD:PUBLISH
X-WR-CALNAME:Soul Dancing
X-ORIGINAL-URL:https://souldancing.co.za
X-WR-CALDESC:Events for Soul Dancing
BEGIN:VTIMEZONE
TZID:Europe/Helsinki
BEGIN:DAYLIGHT
TZOFFSETFROM:+0200
TZOFFSETTO:+0300
TZNAME:EEST
DTSTART:20260329T010000
END:DAYLIGHT
BEGIN:STANDARD
TZOFFSETFROM:+0300
TZOFFSETTO:+0200
TZNAME:EET
DTSTART:20261025T010000
END:STANDARD
END:VTIMEZONE
BEGIN:VEVENT
DTSTART;TZID=Europe/Helsinki:20261010T153000
DTEND;TZID=Europe/Helsinki:20261010T200000
DTSTAMP:20260425T175700
CREATED:20190907T042929Z
LAST-MODIFIED:20260320T182335Z
UID:8421-1791646200-1791662400@souldancing.co.za
SUMMARY:Fearing Love\, is Loving Fear
DESCRIPTION:[vc_row row_content_width=”grid” css=”.vc_custom_1571997794235{padding-top: 118px !important;padding-bottom: 140px !important;}”][vc_column width=”2/3″][vc_empty_space height=”50px”][vc_column_text]“The opposite of love is not\, as we many times or almost always think\, hatred\, but the fear to love\, and fear to love is the fear of being free.” Paulo Freire \n  \n“Fear is the most difficult emotion to handle. You cry the pain\, you scream the anger\, but fear is docked silently in your heart.” David Fischman \n  \nThe first session focuses on the two core emotions\, fear\, and love. We may hold the view that hate and love are opposites\, however when examined carefully\, one will discover that the opposite of love is fear. Thus\, this session gives the participants the opportunity to work through their individual FEARS\, examples of which may be fears that can be sensed upon encountering them (fear of heights) of fears that are deep-seated in us as human beings (such as a fear of not being good enough). \n  \nThe fear section is carefully and expertly facilitated so that each participant opens up to the fears they experience both on a day-to-day basis and in life in general\, leading to a point of breaking through those fears. Though it may sound like a task of mammoth proportions\, the session is designed to assist in conquering the fears that hold us back in life\, in a practical & sensible way. \n  \nThe second part of the session is dedicated to LOVE. The return to love. As often when the emotion of fear takes over in life\, the space in our lives to love becomes smaller & smaller\, leaving us feeling empty & unsatisfied. This session enables now intrepid participants to explore & experience the depths of their love. \n  \nUsing various tools and music\, participants tap into the infinite source of love that is available to them once all the fears are confronted. By the time the session ends\, space is uplifted with the expression of love reverberating and participants leave vibrating on that high note\, with the echo of love carried into their days ahead…[/vc_column_text][/vc_column][vc_column width=”1/3″][vc_empty_space height=”65px”]\n\n\n\n\n\n\n\n\n\n\n\n\n	\n\n\n\n	\n\n\n\n	\n\n\n\n	\n	 \n\n\n\n	MESSAGE US\n	 \n\n[/vc_column][/vc_row] \n  \n  \n\n    Contact Us\n	\n
URL:https://souldancing.co.za/event/fearing-love-is-loving-fear/
LOCATION:The Centre of Light\, 109 Scorpion Trail\, Kyalami\, Johannesburg\, Gauteng\, South Africa
CATEGORIES:Workshop 2019
ATTACH;FMTTYPE=image/jpeg:https://souldancing.co.za/wp-content/uploads/2019/09/soul-dancing-workshop-fearing-love-is-loving-fear.jpg
END:VEVENT
END:VCALENDAR