BEGIN:VCALENDAR
VERSION:2.0
PRODID:-//Soul Dancing - ECPv5.1.4//NONSGML v1.0//EN
CALSCALE:GREGORIAN
METHOD:PUBLISH
X-WR-CALNAME:Soul Dancing
X-ORIGINAL-URL:https://souldancing.co.za
X-WR-CALDESC:Events for Soul Dancing
BEGIN:VTIMEZONE
TZID:Europe/Helsinki
BEGIN:DAYLIGHT
TZOFFSETFROM:+0200
TZOFFSETTO:+0300
TZNAME:EEST
DTSTART:20260329T010000
END:DAYLIGHT
BEGIN:STANDARD
TZOFFSETFROM:+0300
TZOFFSETTO:+0200
TZNAME:EET
DTSTART:20261025T010000
END:STANDARD
END:VTIMEZONE
BEGIN:VEVENT
DTSTART;TZID=Europe/Helsinki:20261007T180000
DTEND;TZID=Europe/Helsinki:20261007T223000
DTSTAMP:20260425T175123
CREATED:20190918T071230Z
LAST-MODIFIED:20260320T182059Z
UID:8818-1791396000-1791412200@souldancing.co.za
SUMMARY:Joy Rage
DESCRIPTION:[vc_row row_content_width=”grid” css=”.vc_custom_1571997794235{padding-top: 118px !important;padding-bottom: 140px !important;}”][vc_column width=”2/3″][vc_empty_space height=”50px”][vc_column_text]The first session focuses on two core emotions\, anger and joy as complimentary emotions\, being two sides of the same coin. The first part of the session enables participants to work constructively with the emotion of ANGER. Anger is an emotion from which most people have disassociated themselves because our culture & society is uncomfortable with such expression\, however\, this does not mean it doesn’t exist. For most people as a consequence\, anger is suppressed or unexpressed and thus may lead at times to depression or other bodily ailments. Anger however at its core is energy and when channeled correctly can actually be used for the betterment of us human beings as well as our environment at large. The anger one may experience comes from past events as well as daily triggers and it is imperative that we work consciously to release it. \n  \nThe second part of the session works with the emotion of JOY\, as when one allows the anger to dissipate it makes it easier to connect to the emotion of joy. This part of the session is then dedicated to the appreciation of being alive\, the joy that exists in the big & small things that make life worthwhile & the magnificence of our being when it is calm & at peace. \n  \nThe session is facilitated through a unique dance process allowing participants to get in touch with both emotions\, anger through to joy. This will\, of course\, differ from participant to participant yet the facilitator works with all the participants in accordance with what is available to them at that moment in time. \n[/vc_column_text][/vc_column][vc_column width=”1/3″][vc_empty_space height=”65px”]\n\n\n\n\n\n\n\n\n\n\n\n\n	\n\n\n\n	\n\n\n\n	\n\n\n\n	\n	 \n\n\n\n	MESSAGE US\n	 \n\n[/vc_column][/vc_row] \n  \n\n    Contact Us\n	\n
URL:https://souldancing.co.za/event/joy-rage/
LOCATION:The Centre of Light\, 109 Scorpion Trail\, Kyalami\, Johannesburg\, Gauteng\, South Africa
CATEGORIES:Workshop 2019
ATTACH;FMTTYPE=image/jpeg:https://souldancing.co.za/wp-content/uploads/2019/09/soul-dancing-workshop-joy-rage.jpg
END:VEVENT
END:VCALENDAR